BEGIN:VCALENDAR
VERSION:2.0
PRODID:-//ChamberMaster//Event Calendar 2.0//EN
METHOD:PUBLISH
X-PUBLISHED-TTL:P3D
REFRESH-INTERVAL:P3D
CALSCALE:GREGORIAN
BEGIN:VEVENT
DTSTART:20260503T170000Z
DTEND:20260503T210000Z
X-MICROSOFT-CDO-ALLDAYEVENT:FALSE
SUMMARY:Baxter's Pond Foundation Neighborhood Block Party
DESCRIPTION:Bounce house\, cotton candy\, popcorn\, games\, prizes\, relay races\, contests\, food & drinks\, DJ & Emcee\n\n\n\nThe Port Washington Chamber of Commerce invites you to Try Port First and visit our wonderful merchant and restaurant members who support our community. See our Chamber of Commerce member listings at https://www.PWCOC.org/members. And\, you can download the free Try Port First app for "everything Port Washington!"
X-ALT-DESC;FMTTYPE=text/html:Bounce house\, cotton candy\, popcorn\, games\, prizes\, relay races\, contests\, food &amp\; drinks\, DJ &amp\; Emcee<br />\n<br />\n<span style="font-family: Overpass\, sans-serif\; text-align: center\; font-size: 12px\; color: mediumblue\;"><span style="font-family: &quot\;arial rounded mt bold&quot\;\, sans-serif\;">The Port Washington Chamber of Commerce invites you to Try Port First and visit our wonderful merchant and restaurant members who support our community. See our Chamber of Commerce member listings at&nbsp\;</span></span><span style="color: black\; font-family: Overpass\, sans-serif\; text-align: center\; font-size: 12px\;"><a href="https://www.PWCOC.org/members">https://www.PWCOC.org/members</a></span><span style="font-family: Overpass\, sans-serif\; text-align: center\; font-size: 12px\; color: mediumblue\;"><span style="font-family: &quot\;arial rounded mt bold&quot\;\, sans-serif\;">.&nbsp\;And\, you can download the free Try Port First app for &quot\;everything Port Washington!&quot\;</span></span>
LOCATION:Shoreview Road
UID:e.3155.7934
SEQUENCE:3
DTSTAMP:20260420T174749Z
URL:https://www.pwcoc.org/events/details/baxter-s-pond-foundation-neighborhood-block-party-7934
END:VEVENT

END:VCALENDAR
