BEGIN:VCALENDAR
VERSION:2.0
PRODID:-//ChamberMaster//Event Calendar 2.0//EN
METHOD:PUBLISH
X-PUBLISHED-TTL:P3D
REFRESH-INTERVAL:P3D
CALSCALE:GREGORIAN
BEGIN:VEVENT
DTSTART:20260920T120000Z
DTEND:20260920T190000Z
X-MICROSOFT-CDO-ALLDAYEVENT:FALSE
SUMMARY:Exotics and Classic Car Show 2026
DESCRIPTION:Presented by the Paumanok-Port Washington Lodge No. 855 Free and Accepted Masons. All proceeds benefit Shriners Hospitals for Children. Trophies awarded for Best Exotics\, Best Classics and Fan Favorites. Rain date October 3.\n\nThe Port Washington Chamber of Commerce invites you to Try Port First and visit our wonderful merchant and restaurant members who support our community. See our Chamber of Commerce member listings at https://www.PWCOC.org/members. And\, you can download the free Try Port First app for "everything Port Washington!"
X-ALT-DESC;FMTTYPE=text/html:Presented by the Paumanok-Port Washington Lodge No. 855 Free and Accepted Masons. All proceeds benefit Shriners Hospitals for Children. Trophies awarded for Best Exotics\, Best Classics and Fan Favorites. Rain date October 3.<br />\n<span style="font-family: Overpass\, sans-serif\; text-align: center\; font-size: 12px\; color: mediumblue\;"><span style="font-family: &quot\;arial rounded mt bold&quot\;\, sans-serif\;">The Port Washington Chamber of Commerce invites you to Try Port First and visit our wonderful merchant and restaurant members who support our community. See our Chamber of Commerce member listings at&nbsp\;</span></span><span style="color: black\; font-family: Overpass\, sans-serif\; text-align: center\; font-size: 12px\;"><a href="https://www.PWCOC.org/members">https://www.PWCOC.org/members</a></span><span style="font-family: Overpass\, sans-serif\; text-align: center\; font-size: 12px\; color: mediumblue\;"><span style="font-family: &quot\;arial rounded mt bold&quot\;\, sans-serif\;">.&nbsp\;And\, you can download the free Try Port First app for &quot\;everything Port Washington!&quot\;</span></span>
LOCATION:Port Washington LIRR Station
UID:e.3155.7935
SEQUENCE:3
DTSTAMP:20260420T174752Z
URL:https://www.pwcoc.org/events/details/exotics-and-classic-car-show-2026-7935
END:VEVENT

END:VCALENDAR
